BEGIN:VCALENDAR
VERSION:2.0
PRODID:-//NOIZ Entertainment - ECPv6.15.20//NONSGML v1.0//EN
CALSCALE:GREGORIAN
METHOD:PUBLISH
X-WR-CALNAME:NOIZ Entertainment
X-ORIGINAL-URL:https://noizentertainment.com
X-WR-CALDESC:Events for NOIZ Entertainment
REFRESH-INTERVAL;VALUE=DURATION:PT1H
X-Robots-Tag:noindex
X-PUBLISHED-TTL:PT1H
BEGIN:VTIMEZONE
TZID:America/New_York
BEGIN:DAYLIGHT
TZOFFSETFROM:-0500
TZOFFSETTO:-0400
TZNAME:EDT
DTSTART:20250309T070000
END:DAYLIGHT
BEGIN:STANDARD
TZOFFSETFROM:-0400
TZOFFSETTO:-0500
TZNAME:EST
DTSTART:20251102T060000
END:STANDARD
BEGIN:DAYLIGHT
TZOFFSETFROM:-0500
TZOFFSETTO:-0400
TZNAME:EDT
DTSTART:20260308T070000
END:DAYLIGHT
BEGIN:STANDARD
TZOFFSETFROM:-0400
TZOFFSETTO:-0500
TZNAME:EST
DTSTART:20261101T060000
END:STANDARD
BEGIN:DAYLIGHT
TZOFFSETFROM:-0500
TZOFFSETTO:-0400
TZNAME:EDT
DTSTART:20270314T070000
END:DAYLIGHT
BEGIN:STANDARD
TZOFFSETFROM:-0400
TZOFFSETTO:-0500
TZNAME:EST
DTSTART:20271107T060000
END:STANDARD
END:VTIMEZONE
BEGIN:VEVENT
DTSTART;TZID=America/New_York:20260424T190000
DTEND;TZID=America/New_York:20260424T230000
DTSTAMP:20260422T180423
CREATED:20260419T202229Z
LAST-MODIFIED:20260419T202229Z
UID:3596-1777057200-1777071600@noizentertainment.com
SUMMARY:✨ NOIZ LIVE AT THE PINE GROVE INN ✨
DESCRIPTION:There’s a certain kind of night you don’t plan… you arrive in it. \nThe room is glowing\, the bar is alive\, conversations hum just under the music—and then the first note lands. Smooth\, confident\, just a little dangerous. That’s where we step in. \nNOIZ brings a refined edge to the evening—live music that moves effortlessly from soulful grooves to high-energy favorites\, all wrapped in a sound that feels right at home in the warmth of Pine Grove’s atmosphere. \n🍸 Set the tone for your night: \nCrafted cocktails and elevated dining\nA live set that builds\, breathes\, and lifts the room\nMusic you can feel whether you’re on your feet or leaning in close \n🕗 Music begins: 7:00 PM \nCome for dinner. Stay for the music.\nLet the night unfold exactly the way it’s supposed to. \nApril 24th… it’s not just a date—it’s a mood. ✨
URL:https://noizentertainment.com/schedule/%e2%9c%a8-noiz-live-at-the-pine-grove-inn-%e2%9c%a8/
LOCATION:The Pine Grove Inn\, 1 1st Street\, East patchogue\, NY\, 11772\, United States
END:VEVENT
BEGIN:VEVENT
DTSTART;TZID=America/New_York:20260419T130000
DTEND;TZID=America/New_York:20260419T160000
DTSTAMP:20260422T180423
CREATED:20260401T012221Z
LAST-MODIFIED:20260401T012221Z
UID:3589-1776603600-1776614400@noizentertainment.com
SUMMARY:Celebrate Mother Earth
DESCRIPTION:
URL:https://noizentertainment.com/schedule/celebrate-mother-earth/
LOCATION:Andrew Haswell Green Park\, E. 60th St. & FDR Dr\, New York\, NY\, 10022\, United States
END:VEVENT
BEGIN:VEVENT
DTSTART;TZID=America/New_York:20260418T200000
DTEND;TZID=America/New_York:20260418T230000
DTSTAMP:20260422T180423
CREATED:20260401T010459Z
LAST-MODIFIED:20260401T012500Z
UID:3584-1776542400-1776553200@noizentertainment.com
SUMMARY:Dinner and Dance
DESCRIPTION:
URL:https://noizentertainment.com/schedule/3584/
LOCATION:Brasserie by Cheff Aless\, 5590 Merrick Road\, Massapequa\, NY\, 11758\, United States
END:VEVENT
BEGIN:VEVENT
DTSTART;TZID=America/New_York:20260321T180000
DTEND;TZID=America/New_York:20260321T210000
DTSTAMP:20260422T180423
CREATED:20260315T005330Z
LAST-MODIFIED:20260315T005330Z
UID:3580-1774116000-1774126800@noizentertainment.com
SUMMARY:Women's Month Event
DESCRIPTION:
URL:https://noizentertainment.com/schedule/womens-month-event/
LOCATION:NY
END:VEVENT
BEGIN:VEVENT
DTSTART;TZID=America/New_York:20260214T190000
DTEND;TZID=America/New_York:20260214T220000
DTSTAMP:20260422T180423
CREATED:20260214T180050Z
LAST-MODIFIED:20260214T180050Z
UID:3573-1771095600-1771106400@noizentertainment.com
SUMMARY:Spread the Love
DESCRIPTION:
URL:https://noizentertainment.com/schedule/spread-the-love/
LOCATION:The Pine Grove Inn\, 1 1st Street\, East patchogue\, NY\, 11772\, United States
END:VEVENT
BEGIN:VEVENT
DTSTART;TZID=America/New_York:20260131T180000
DTEND;TZID=America/New_York:20260131T210000
DTSTAMP:20260422T180423
CREATED:20260214T181527Z
LAST-MODIFIED:20260214T181527Z
UID:3575-1769882400-1769893200@noizentertainment.com
SUMMARY:Best of the 70's\, 80's and more!
DESCRIPTION:
URL:https://noizentertainment.com/schedule/best-of-the-70s-80s-and-more/
LOCATION:The Pine Grove Inn\, 1 1st Street\, East patchogue\, NY\, 11772\, United States
END:VEVENT
END:VCALENDAR