BEGIN:VCALENDAR
VERSION:2.0
PRODID:-//NOIZ Entertainment - ECPv6.15.20//NONSGML v1.0//EN
CALSCALE:GREGORIAN
METHOD:PUBLISH
X-ORIGINAL-URL:https://noizentertainment.com
X-WR-CALDESC:Events for NOIZ Entertainment
REFRESH-INTERVAL;VALUE=DURATION:PT1H
X-Robots-Tag:noindex
X-PUBLISHED-TTL:PT1H
BEGIN:VTIMEZONE
TZID:America/New_York
BEGIN:DAYLIGHT
TZOFFSETFROM:-0500
TZOFFSETTO:-0400
TZNAME:EDT
DTSTART:20250309T070000
END:DAYLIGHT
BEGIN:STANDARD
TZOFFSETFROM:-0400
TZOFFSETTO:-0500
TZNAME:EST
DTSTART:20251102T060000
END:STANDARD
BEGIN:DAYLIGHT
TZOFFSETFROM:-0500
TZOFFSETTO:-0400
TZNAME:EDT
DTSTART:20260308T070000
END:DAYLIGHT
BEGIN:STANDARD
TZOFFSETFROM:-0400
TZOFFSETTO:-0500
TZNAME:EST
DTSTART:20261101T060000
END:STANDARD
BEGIN:DAYLIGHT
TZOFFSETFROM:-0500
TZOFFSETTO:-0400
TZNAME:EDT
DTSTART:20270314T070000
END:DAYLIGHT
BEGIN:STANDARD
TZOFFSETFROM:-0400
TZOFFSETTO:-0500
TZNAME:EST
DTSTART:20271107T060000
END:STANDARD
END:VTIMEZONE
BEGIN:VEVENT
DTSTART;TZID=America/New_York:20260502T190000
DTEND;TZID=America/New_York:20260502T230000
DTSTAMP:20260422T115955
CREATED:20260419T204916Z
LAST-MODIFIED:20260419T205133Z
UID:3598-1777748400-1777762800@noizentertainment.com
SUMMARY:🌊 NOIZ LIVE AT THE DUBLIN DECK 🌊
DESCRIPTION:🌊 NOIZ LIVE AT THE DUBLIN DECK 🌊\nSaturday\, May 2nd\, 2026\n🕖 7:00 PM \nSun going down… drinks going up… and right when the sky hits that perfect gold— NOIZ takes the stage. \nWe’re bringing the soundtrack to your waterfront night with high energy\, feel good\, sing it loud music that turns a casual evening into the night everyone talks about on Sunday. \n🍹 Expect: \nLive music that keeps the deck moving\nCrowd favorite hits + unexpected bangers\nOcean breeze\, cold drinks\, and zero reason to sit still \nThis isn’t a “stand in the corner” kind of show.\nThis is “dance with your drink”\, “lose track of time” energy. \nSo grab your people\, claim your spot\, and let the night do what it does best. \nMay 2nd. 7PM. Dublin Deck.\nWe’ll bring the Noiz… you bring the vibe. 🔊🔥
URL:https://noizentertainment.com/schedule/%f0%9f%8c%8a-noiz-live-at-the-dublin-deck-%f0%9f%8c%8a/
LOCATION:Dublin Deck\, 325 River Ave\, Patchogue\, NY\, 11772\, United States
END:VEVENT
END:VCALENDAR